Workbook
Name In_Service: 'Dropdown List Options'!#REF!
Name NEWCON: 'Dropdown List Options'!#REF!
Name Other: 'Dropdown List Options'!#REF!
Name RD_TE: 'Dropdown List Options'!#REF!
Name Request_Type: 'Dropdown List Options'!$A$2:$A$5

Sheet Request Form
A1: Austal USA Advanced Technologies Support Request Form
A2: Austal USA Advanced Technologies is NOT authorized to receive NNPI documentation. Submit completed form to AMCOE@austalusa.com. CUI drawings shall be sent via DoD Safe or equivalent.
A3: 1. Customer Information
A4: Request Date | I4: Organization
A5: Requestor | I5: Email
A6: Title | I6: Phone
A7: Shipping Information
A8: Delivery Method | I8: If necessary, is Saturday delivery permissible at this address?
A9: Delivery Contact Name | I9: Delivery Address (Physical Address or Electronic Method Recipients)
A10: Delivery Contact Phone
A11: Delivery Contact Email
A12: Additional Comments/Notes
A14: 2. Use Case Information
A15: Request Category | I15: Request Subcategory
A16: Reason/Challenge | I16: Additional Details of Reason/Challenge
A17: Installations: Emergent Request? | I17: Installations: CASREP?
A18: Installations: Vessel Class | I18: Installation Vessel Hull
A19: Directed OEM Sourcing? | I19: If yes, provide OEM name:
A20: Background and General Description
A22: SOW Identifier (if applicable) | I22: Purchase Order Number (if applicable)
A23: 3. Design/Model Requirements
A24: Design Deliverable | I24: If other, please specify.
A25: 4. Manufacturing Requirements
A26: AM Process | I26: If other, please specify.
A27: In-Situ Assessment Data Requested? | I27: If yes, please specify desired data
A28: Heat Treatment Requirements | I28: If other, please specify.
A29: Machining Required | I29: Additional Customer-Specified Manufacturing Requirements
A30: Part Marking
A31: Part Marking Required | I31: Please Provide Part Marking Content and Location
A32: Part Marking Method | I32: Additional Customer-Specified Marking Requirements
A33: 5. Testing/Part Verification Requirements
A34: First Article Inspection
A35: First Article Inspection Required? | I35: If yes, provide acceptance criteria:
A36: Material Properties Testing Requirements
A37: Witness Coupon Testing to Project Peculiar Document and/or MIL-PRF Specification Requirements | I37: NAVSEA Technical Publication Requirements for PBF (9074-A2-GIB-010/AM-PBF) or DED (S9074-A4-GIB-010/AM-WIRE DED) Additive Manufacturing
A38: Non-Destructive Testing of Component(s)
A39: Radiological Testing (RT) | I39: Pentrant Testing (PT)
A40: Ultrasonic Testing (UT) | I40: Visual Testing (VT)
A41: Destructive Testing of Component(s)
A42: Tensile | I42: Charpy
A43: Bend | I43: Relative Density
A44: Chemistry | I44: Other DT, please specify:
A45: Additional Customer-Specified Testing Requirements
A47: 6. Part Information
A48: Part Name | B48: Part Number | C48: NSN or NIIN | D48: Original Material | E48: Print Material | F48: Traditional Method | G48: Document Owner | H48: Drawing # | I48: Drawing Rev. | J48: Designation | K48: Distro | L48: System | M48: SUBSAFE Component | N48: Level I Component | O48: Severity Level | P48: Low Risk? (See NAVSEA 9070 Ser 05Z/248) | Q48: Weldability Certification Package Required? | R48: TDP Deliverable? | S48: QTY | T48: Need-By Date

Sheet FAQs
A1: Austal USA Advanced Technologies Support Request Form FAQs
A2: I only want one service, can I fill out only applicable information? | B2: All fields must be filled and result in a blue background. Any "N/A" fields should be filled in as such.
A3: I do not have a shipping contact yet. What do I put in the delivery address? | B3: Please provide as much information as you can such as a shipyard name and location.
A4: Which category do I select? | B4: (1) NEWCON - Installation during a precommisioned unit availibility or design development for new construction projects. (2) In-Service - Installation for an in-service vessel. (3) RD&TE - MMT work and/or other research efforts (4) Other - Everything else
A5: How do I know if I need machining? | B5: If machining is required, select "Yes." Additional notes may be provided in additional requirements. If "No" is selected, the print will be left "As-Printed." As-printed can achieve a +/- 0.0060" tolerance. Any tighter tolerances will require machining, which the engineering team will assess and communicate with you on.
A6: What if I have staggered need-by dates for the same part number? | B6: Please fill in a separate row for each need-by date.
A7: What if I have more parts than rows provided? | B7: You can add additional part request rows by right-clicking the last row and selecting "Insert."
A8: Why can I not enter "ASAP" in the need-by date? | B8: "As soon as possible" may mean as soon as it is possible to slate in the production schedule, or as soon as the part could be produced regardless of current schedule. Please provide a date to ensure the most effective production planning, and note that the form will validate need-by date is after the request date. We will provide a promise date prior to commencing production.

Sheet Request Data
A1: Smartsheet Column | B1: ='Request Form'!$A4 -> Request Date | C1: ='Request Form'!$A5 -> Requestor | D1: ='Request Form'!$A6 -> Title | E1: ='Request Form'!$I4 -> Organization | F1: ='Request Form'!$I5 -> Email | G1: ='Request Form'!$I6 -> Phone | H1: ='Request Form'!$A8 -> Delivery Method | I1: ='Request Form'!$I8 -> If necessary, is Saturday delivery permissible at this address? | J1: ='Request Form'!$A9 -> Delivery Contact Name | K1: ='Request Form'!$A10 -> Delivery Contact Phone | L1: ='Request Form'!$A11 -> Delivery Contact Email | M1: ='Request Form'!$I9 -> Delivery Address (Physical Address or Electronic Method Recipients) | N1: ='Request Form'!$A12 -> Additional Comments/Notes | O1: ='Request Form'!$A15 -> Request Category | P1: ='Request Form'!$I15 -> Request Subcategory | Q1: ='Request Form'!$A16 -> Reason/Challenge | R1: ='Request Form'!$I16 -> Additional Details of Reason/Challenge | S1: ='Request Form'!$A17 -> Installations: Emergent Request? | T1: ='Request Form'!$I17 -> Installations: CASREP? | U1: ='Request Form'!$A18 -> Installations: Vessel Class | V1: ='Request Form'!$I18 -> Installation Vessel Hull | W1: ='Request Form'!$A19 -> Directed OEM Sourcing? | X1: ='Request Form'!$I19 -> If yes, provide OEM name: | Y1: ='Request Form'!$A20 -> Background and General Description | Z1: ='Request Form'!$A22 -> SOW Identifier (if applicable) | AA1: ='Request Form'!$I22 -> Purchase Order Number (if applicable) | AB1: ='Request Form'!$A24 -> Design Deliverable | AC1: ='Request Form'!$I24 -> If other, please specify. | AD1: ='Request Form'!$A26 -> AM Process | AE1: ='Request Form'!$I26 -> If other, please specify. | AF1: ='Request Form'!$A27 -> In-Situ Assessment Data Requested? | AG1: ='Request Form'!$I27 -> If yes, please specify desired data | AH1: ='Request Form'!$A28 -> Heat Treatment Requirements | AI1: ='Request Form'!$I28 -> If other, please specify. | AJ1: ='Request Form'!$A29 -> Machining Required | AK1: ='Request Form'!$I29 -> Additional Customer-Specified Manufacturing Requirements | AL1: ='Request Form'!$A31 -> Part Marking Required | AM1: ='Request Form'!$I31 -> Please Provide Part Marking Content and Location | AN1: ='Request Form'!$A32 -> Part Marking Method | AO1: ='Request Form'!$I32 -> Additional Customer-Specified Marking Requirements | AP1: ='Request Form'!$A35 -> First Article Inspection Required? | AQ1: ='Request Form'!$I35 -> If yes, provide acceptance criteria: | AR1: ='Request Form'!$A37 -> Witness Coupon Testing to Project Peculiar Document and/or MIL-PRF Specification Requirements | AS1: ='Request Form'!$I37 -> NAVSEA Technical Publication Requirements for PBF (9074-A2-GIB-010/AM-PBF) or DED (S9074-A4-GIB-010/AM-WIRE DED) Additive Manufacturing | AT1: ='Request Form'!$A39 -> Radiological Testing (RT) | AU1: ='Request Form'!$I39 -> Pentrant Testing (PT) | AV1: ='Request Form'!$A40 -> Ultrasonic Testing (UT) | AW1: ='Request Form'!$I40 -> Visual Testing (VT) | AX1: ='Request Form'!$A42 -> Tensile | AY1: ='Request Form'!$I42 -> Charpy | AZ1: ='Request Form'!$A43 -> Bend | BA1: ='Request Form'!$I43 -> Relative Density | BB1: ='Request Form'!$A44 -> Chemistry | BC1: ='Request Form'!$I44 -> Other DT, please specify: | BD1: ='Request Form'!$A45 -> Additional Customer-Specified Testing Requirements
A2: Smartsheet Data to Paste | B2: ='Request Form'!$C$4 -> 0 | C2: ='Request Form'!$C$5 -> 0 | D2: ='Request Form'!$C6 -> 0 | E2: ='Request Form'!$M$4 -> 0 | F2: ='Request Form'!$M$5 -> 0 | G2: ='Request Form'!$M$6 -> 0 | H2: ='Request Form'!$C8 -> 0 | I2: ='Request Form'!$M8 -> 0 | J2: ='Request Form'!$C9 -> 0 | K2: ='Request Form'!$C10 -> 0 | L2: ='Request Form'!$C11 -> 0 | M2: ='Request Form'!$M9 -> 0 | N2: ='Request Form'!$A13 -> 0 | O2: ='Request Form'!$C15 -> 0 | P2: ='Request Form'!$M15 -> 0 | Q2: ='Request Form'!$C16 -> 0 | R2: ='Request Form'!$M16 -> 0 | S2: ='Request Form'!$C17 -> 0 | T2: ='Request Form'!$M17 -> 0 | U2: ='Request Form'!$C19 -> 0 | V2: ='Request Form'!$M18 -> 0 | W2: ='Request Form'!$C18 -> 0 | X2: ='Request Form'!$M19 -> 0 | Y2: ='Request Form'!$A21 -> 0 | Z2: ='Request Form'!$C22 -> 0 | AA2: ='Request Form'!$M22 -> 0 | AB2: ='Request Form'!$C24 -> 0 | AC2: ='Request Form'!$M24 -> 0 | AD2: ='Request Form'!$C26 -> 0 | AE2: ='Request Form'!$M26 -> 0 | AF2: ='Request Form'!$C27 -> 0 | AG2: ='Request Form'!$M27 -> 0 | AH2: ='Request Form'!$C28 -> 0 | AI2: ='Request Form'!$M28 -> 0 | AJ2: ='Request Form'!$C29 -> 0 | AK2: ='Request Form'!$M29 -> 0 | AL2: ='Request Form'!$C31 -> 0 | AM2: ='Request Form'!$M31 -> 0 | AN2: ='Request Form'!$C32 -> 0 | AO2: ='Request Form'!$M32 -> 0 | AP2: ='Request Form'!$C35 -> 0 | AQ2: ='Request Form'!$M35 -> 0 | AR2: ='Request Form'!$C37 -> 0 | AS2: ='Request Form'!$M37 -> 0 | AT2: ='Request Form'!$C39 -> 0 | AU2: ='Request Form'!$M39 -> 0 | AV2: ='Request Form'!$C40 -> 0 | AW2: ='Request Form'!$M40 -> 0 | AX2: ='Request Form'!$C42 -> 0 | AY2: ='Request Form'!$M42 -> 0 | AZ2: ='Request Form'!$C43 -> 0 | BA2: ='Request Form'!$M43 -> 0 | BB2: ='Request Form'!$C44 -> 0 | BC2: ='Request Form'!$M44 -> 0 | BD2: ='Request Form'!$A46 -> 0
A4: Readable and Copy-able Table for Convenience
A5: 1. Customer Information | B5: ='Request Form'!$A4 -> Request Date | C5: ='Request Form'!$C$4 -> 0
B6: ='Request Form'!$A5 -> Requestor | C6: ='Request Form'!$C$5 -> 0
B7: ='Request Form'!$A6 -> Title | C7: ='Request Form'!$C6 -> 0
B8: ='Request Form'!$I4 -> Organization | C8: ='Request Form'!$M$4 -> 0
B9: ='Request Form'!$I5 -> Email | C9: ='Request Form'!$M$5 -> 0
B10: ='Request Form'!$I6 -> Phone | C10: ='Request Form'!$M$6 -> 0
B11: ='Request Form'!$A8 -> Delivery Method | C11: ='Request Form'!$C8 -> 0
B12: ='Request Form'!$I8 -> If necessary, is Saturday delivery permissible at this address? | C12: ='Request Form'!$M8 -> 0
B13: ='Request Form'!$A9 -> Delivery Contact Name | C13: ='Request Form'!$C9 -> 0
B14: ='Request Form'!$A10 -> Delivery Contact Phone | C14: ='Request Form'!$C10 -> 0
B15: ='Request Form'!$A11 -> Delivery Contact Email | C15: ='Request Form'!$C11 -> 0
B16: ='Request Form'!$I9 -> Delivery Address (Physical Address or Electronic Method Recipients) | C16: ='Request Form'!$M9 -> 0
B17: ='Request Form'!$A12 -> Additional Comments/Notes | C17: ='Request Form'!$A13 -> 0
A18: 2. Use Case Information | B18: ='Request Form'!$A15 -> Request Category | C18: ='Request Form'!$C15 -> 0
B19: ='Request Form'!$I15 -> Request Subcategory | C19: ='Request Form'!$M15 -> 0
B20: ='Request Form'!$A16 -> Reason/Challenge | C20: ='Request Form'!$C16 -> 0
B21: ='Request Form'!$I16 -> Additional Details of Reason/Challenge | C21: ='Request Form'!$M16 -> 0
B22: ='Request Form'!$A17 -> Installations: Emergent Request? | C22: ='Request Form'!$C17 -> 0
B23: ='Request Form'!$I17 -> Installations: CASREP? | C23: ='Request Form'!$M17 -> 0
B24: ='Request Form'!$A18 -> Installations: Vessel Class | C24: ='Request Form'!$C19 -> 0
B25: ='Request Form'!$I18 -> Installation Vessel Hull | C25: ='Request Form'!$M18 -> 0
B26: ='Request Form'!$A19 -> Directed OEM Sourcing? | C26: ='Request Form'!$C18 -> 0
B27: ='Request Form'!$I19 -> If yes, provide OEM name: | C27: ='Request Form'!$M19 -> 0
B28: ='Request Form'!$A20 -> Background and General Description | C28: ='Request Form'!$A21 -> 0
B29: ='Request Form'!$A22 -> SOW Identifier (if applicable) | C29: ='Request Form'!$C22 -> 0
B30: ='Request Form'!$I22 -> Purchase Order Number (if applicable) | C30: ='Request Form'!$M22 -> 0
A31: 3. Design/Model Requirements | B31: ='Request Form'!$A24 -> Design Deliverable | C31: ='Request Form'!$C24 -> 0
B32: ='Request Form'!$I24 -> If other, please specify. | C32: ='Request Form'!$M24 -> 0
A33: 4. Manufacturing Requirements | B33: ='Request Form'!$A26 -> AM Process | C33: ='Request Form'!$C26 -> 0
B34: ='Request Form'!$I26 -> If other, please specify. | C34: ='Request Form'!$M26 -> 0
B35: ='Request Form'!$A27 -> In-Situ Assessment Data Requested? | C35: ='Request Form'!$C27 -> 0
B36: ='Request Form'!$I27 -> If yes, please specify desired data | C36: ='Request Form'!$M27 -> 0
B37: ='Request Form'!$A28 -> Heat Treatment Requirements | C37: ='Request Form'!$C28 -> 0
B38: ='Request Form'!$I28 -> If other, please specify. | C38: ='Request Form'!$M28 -> 0
B39: ='Request Form'!$A29 -> Machining Required | C39: ='Request Form'!$C29 -> 0
B40: ='Request Form'!$I29 -> Additional Customer-Specified Manufacturing Requirements | C40: ='Request Form'!$M29 -> 0
B41: ='Request Form'!$A31 -> Part Marking Required | C41: ='Request Form'!$C31 -> 0
B42: ='Request Form'!$I31 -> Please Provide Part Marking Content and Location | C42: ='Request Form'!$M31 -> 0
B43: ='Request Form'!$A32 -> Part Marking Method | C43: ='Request Form'!$C32 -> 0
B44: ='Request Form'!$I32 -> Additional Customer-Specified Marking Requirements | C44: ='Request Form'!$M32 -> 0
A45: 5. Testing/Part Verification Requirements | B45: ='Request Form'!$A35 -> First Article Inspection Required? | C45: ='Request Form'!$C35 -> 0
B46: ='Request Form'!$I35 -> If yes, provide acceptance criteria: | C46: ='Request Form'!$M35 -> 0
B47: ='Request Form'!$A37 -> Witness Coupon Testing to Project Peculiar Document and/or MIL-PRF Specification Requirements | C47: ='Request Form'!$C37 -> 0
B48: ='Request Form'!$I37 -> NAVSEA Technical Publication Requirements for PBF (9074-A2-GIB-010/AM-PBF) or DED (S9074-A4-GIB-010/AM-WIRE DED) Additive Manufacturing | C48: ='Request Form'!$M37 -> 0
B49: ='Request Form'!$A39 -> Radiological Testing (RT) | C49: ='Request Form'!$C39 -> 0
B50: ='Request Form'!$I39 -> Pentrant Testing (PT) | C50: ='Request Form'!$M39 -> 0
B51: ='Request Form'!$A40 -> Ultrasonic Testing (UT) | C51: ='Request Form'!$C40 -> 0
B52: ='Request Form'!$I40 -> Visual Testing (VT) | C52: ='Request Form'!$M40 -> 0
B53: ='Request Form'!$A42 -> Tensile | C53: ='Request Form'!$C42 -> 0
B54: ='Request Form'!$I42 -> Charpy | C54: ='Request Form'!$M42 -> 0
B55: ='Request Form'!$A43 -> Bend | C55: ='Request Form'!$C43 -> 0
B56: ='Request Form'!$I43 -> Relative Density | C56: ='Request Form'!$M43 -> 0
B57: ='Request Form'!$A44 -> Chemistry | C57: ='Request Form'!$C44 -> 0
B58: ='Request Form'!$I44 -> Other DT, please specify: | C58: ='Request Form'!$M44 -> 0
B59: ='Request Form'!$A45 -> Additional Customer-Specified Testing Requirements | C59: ='Request Form'!$A46 -> 0

Sheet Dropdown List Options
A1: Request Type | B1: Request_Subcategory | C1: Supply_Challenge | D1: Materials | E1: Traditional_Method | F1: Risk_Level | G1: Ship/Hull_Class | H1: Services_Requested | I1: AM_Process | J1: Post_Processing_Requirements | K1: Testing/Part_Verification | L1: Shipping_Method | M1: Y_N | N1: Drawing Publication | O1: Model Type | P1: Surface Finish
A2: (1) NEWCON | B2: (1) NEWCON - Critical part for Columbia | C2: Challenge to Manufacture | D2: Alloy 625 | E2: Casting | F2: (1) CVN Loss | G2: CG – Ticonderoga Class | H2: Design/CAD, Print, Heat Treat, Machine, Test, TDP Generation | I2: AMCOE Recommendation Requested | J2: Heat Treatment per Navy Project Peculiar Document (PPD) 9074 Ser 05P/050 01 Mar 2024. (AMCOE Default) | K2: According to Project Peculiar Document (PPD) for Metal Additive Manufacturing Material Specification (NAVSEA ltr 9074 Ser 05P/050 of 01 Mar 24) for Low Risk parts. | L2: Physical - Ground | M2: Yes | N2: OEM | O2: DFAM Consultation | P2: As-Printed (+/-0.0060 Tolerance) | Q2: Engraved | R2: PPD | S2: CUI
A3: (2) In-Service | B3: (1) NEWCON - Critical part for Virginia | C3: Cost | D3: CuNi 70/30 | E3: Forging | F3: (2) Ship Loss | G3: CVN – Ford Class | H3: Design/CAD, Print, Heat Treat, Machine, Test | I3: L-PBF (Laser Powder Bed Fusion) | J3: Heat Treatment to other specification provided. | K3: Following Part Verification testing guidelines specified in NAVSEA Technical Publication Requirements for PBF (9074-A2-GIB-010/AM-PBF) or DED (S9074-A4-GIB-010/AM-WIRE DED) Additive Manufacturing. | L3: Physical - 3-Day | M3: No | N3: NAVSEA | O3: Finished-State CAD Model | P3: Machine Interfaces Only | Q3: Printed - Bossed | R3: MIL-PRF | S3: Prototype
A4: (3) RD&TE | B4: (1) NEWCON - Other | C4: Long Lead Time | D4: HY-80 (Mil 100S) | E4: Other | F4: (3) Catastrophic | G4: CVN – Nimitz Class | H4: Design/CAD, Print, Heat Treat, Machine | I4: DED (Direct Energy Desposition) | J4: Other | K4: Customer Specified (NDT, DT, DT of Witness Coupons, Other) | L4: Physical - 2-Day | M4: N/A | N4: Other | O4: Printed-State CAD Model and Finished-State CAD Model | P4: Full Machining | Q4: Printed - Embossed | R4: Both | S4: N/A
A5: (4) Other | B5: (2) In-Service - Deployment Limiting - Submarine | C5: Obsolete Part | D5: NAB | E5: N/A | F5: (4) Critical | G5: DDG – Arleigh Burke Class | H5: Design/CAD, Print, Heat Treat | I5: Other | J5: None | K5: None | L5: Physical - Overnight | O5: None | P5: AMCOE Consultation Requested | Q5: Etched | R5: N/A
B6: (2) In-Service - Deployment Limiting - Surface | C6: Other | D6: Ti CP2 | F6: (5) Significant | G6: DDG – Zumwalt Class | H6: Print, Heat Treat, Machine, Test | I6: N/A | J6: N/A | L6: Electronic - Kiteworks | O6: Other | P6: N/A | Q6: Stamped
B7: (2) In-Service -Underway Limiting - Submarine | D7: 316L SS | F7: (6) Marginal | G7: FFG – Constellation Class | H7: Print, Heat Treat, Machine | L7: Electronic - DoD Safe | Q7: Label Plate
B8: (2) In-Service - Underway Limiting - Surface | D8: Other | F8: (7) Negligable | G8: LCS – Independence Class | H8: Print, Heat Treat | L8: Electronic - Other | Q8: Tag
B9: (2) In-Service - Maintenance or Pre-Avail | F9: N/A | G9: LHA – Tarawa Class | H9: Design/CAD Only | Q9: Other (specify in additional marking requirements)
B10: (3) RD&TE - Moonshot | G10: LHA – America Class | H10: Print Only
B11: (3) RD&TE - Material Maturity | G11: LHD – Wasp Class | H11: Machine Only
B12: (3) RD&TE - NDT Development | G12: LPD – San Antonio Class | H12: Test Only
B13: (4) Other - Input Below | G13: LSD – Whidbey Island Class | H13: Other
G14: LSD – Harpers Ferry Class
G15: MTS – Los Angeles Class
G16: MTS – Lafayette Class
G17: SSBN – Columbia Class
G18: SSBN/SSGN – Ohio Class
G19: SSN – Los Angeles Class
G20: SSN – Seawolf Class
G21: SSN – Virginia Class
G22: T-ATS – Navajo Class
G23: WMEC – Famous Class Cutter
G24: WMEC – Reliance Class Cutter
G25: Other - Provided below
G26: N/A
